Workbook
Name Datarange: #REF!
Name DataYearRange: OFFSET(#REF!,0,0,,COUNTA(#REF!)-10)
Name Lineitem: INDIRECT("Data!$I$1:$I$"&Datarange)
Name Measure: INDIRECT("Data!$J$1:$J$"&Datarange)
Name roundidentifier: INDIRECT("Data!$F$1:$F$"&Datarange)

Sheet Table of contents
B2: Guide to the 2026 Intergenerational Report
B5: Why use percentage of GDP
B6: Chart 1: | C6: Underlying cash balance as a share of GDP
B8: Drivers of real GDP growth – 3Ps framework
B9: Table 1: | C9: Key inputs – the economy
B10: Chart 2: | C10: Impact on gross debt of population change scenarios
B11: Chart 3: | C11: Projected participation rate 2026 and 2023 IGR
B12: Chart 4: | C12: Impact on underlying cash balance of productivity sensitivity analysis
B14: How are IGR projections calculated?
B15: Table 2&3: | C15: Program-specific components of the Budget & Constant share of GDP components of the Budget
B16: Chart 5: | C16: Tax receipts as share of GDP
B17: Table 4&5: | C17: Sensitivity analysis - 3Ps (% of GDP) & Sensitivity analysis - Bond yields, spending and taxation receipts (% of GDP)
B19: Additional tables and data
B20: Table 4a&5a | C20: All 2026 IGR sensitivity analyses
B22: Interactive charts

Sheet Chart 1
A1: Chart 1: Underlying cash balance as a share of GDP
A3: Item | B3: Unit | C3: 1985-86 | D3: 1986-87 | E3: 1987-88 | F3: 1988-89 | G3: 1989-90 | H3: 1990-91 | I3: 1991-92 | J3: 1992-93 | K3: 1993-94 | L3: 1994-95 | M3: 1995-96 | N3: 1996-97 | O3: 1997-98 | P3: 1998-99 | Q3: 1999-00 | R3: 2000-01 | S3: 2001-02 | T3: 2002-03 | U3: 2003-04 | V3: 2004-05 | W3: 2005-06 | X3: 2006-07 | Y3: 2007-08 | Z3: 2008-09 | AA3: 2009-10 | AB3: 2010-11 | AC3: 2011-12 | AD3: 2012-13 | AE3: 2013-14 | AF3: 2014-15 | AG3: 2015-16 | AH3: 2016-17 | AI3: 2017-18 | AJ3: 2018-19 | AK3: 2019-20 | AL3: 2020-21 | AM3: 2021-22 | AN3: 2022-23 | AO3: 2023-24 | AP3: 2024-25 | AQ3: 2025-26 | AR3: 2026-27 | AS3: 2027-28 | AT3: 2028-29 | AU3: 2029-30 | AV3: 2030-31 | AW3: 2031-32 | AX3: 2032-33 | AY3: 2033-34 | AZ3: 2034-35 | BA3: 2035-36 | BB3: 2036-37 | BC3: 2037-38 | BD3: 2038-39 | BE3: 2039-40 | BF3: 2040-41 | BG3: 2041-42 | BH3: 2042-43 | BI3: 2043-44 | BJ3: 2044-45 | BK3: 2045-46 | BL3: 2046-47 | BM3: 2047-48 | BN3: 2048-49 | BO3: 2049-50 | BP3: 2050-51 | BQ3: 2051-52 | BR3: 2052-53 | BS3: 2053-54 | BT3: 2054-55 | BU3: 2055-56 | BV3: 2056-57 | BW3: 2057-58 | BX3: 2058-59 | BY3: 2059-60 | BZ3: 2060-61 | CA3: 2061-62 | CB3: 2062-63 | CC3: 2063-64 | CD3: 2064-65 | CE3: 2065-66
A4: Historical | B4: % of GDP | C4: -2 | D4: -0.8 | E4: 0.4 | F4: 1.5 | G4: 1.5 | H4: -0.1 | I4: -3 | J4: -4.1 | K4: -3.9 | L4: -2.9 | M4: -2.1 | N4: -1.1 | O4: 0 | P4: 0.6 | Q4: 2 | R4: 0.8 | S4: -0.1 | T4: 0.9 | U4: 0.9 | V4: 1.5 | W4: 1.6 | X4: 1.6 | Y4: 1.7 | Z4: -2.1 | AA4: -4.2 | AB4: -3.3 | AC4: -2.9 | AD4: -1.2 | AE4: -3 | AF4: -2.3 | AG4: -2.4 | AH4: -1.9 | AI4: -0.6 | AJ4: 0 | AK4: -4.3 | AL4: -6.4 | AM4: -1.4 | AN4: 0.9 | AO4: 0.6 | AP4: -0.4
A5: 2002 IGR | B5: % of GDP | R5: 0.8 | S5: -0.2 | T5: 0.3 | U5: 0.5 | V5: 0.6 | W5: 0.8 | X5: 1.2 | Y5: 1.3 | Z5: 1.2 | AA5: 1.2 | AB5: 1.2 | AC5: 1.3 | AD5: 1.2 | AE5: 1.1 | AF5: 1 | AG5: 0.9 | AH5: 0.8 | AI5: 0.7 | AJ5: 0.5 | AK5: 0.4 | AL5: 0.2 | AM5: 0 | AN5: -0.2 | AO5: -0.5 | AP5: -0.7 | AQ5: -1 | AR5: -1.3 | AS5: -1.6 | AT5: -1.9 | AU5: -2.2 | AV5: -2.5 | AW5: -2.9 | AX5: -3.2 | AY5: -3.6 | AZ5: -4 | BA5: -4.4 | BB5: -4.8 | BC5: -5.3 | BD5: -5.7 | BE5: -6.2 | BF5: -6.7 | BG5: -7.2
A6: 2007 IGR | B6: % of GDP | X6: 1.1 | Y6: 0.9 | Z6: 1 | AA6: 1.2 | AB6: 1 | AC6: 1 | AD6: 1 | AE6: 1.1 | AF6: 1.1 | AG6: 1 | AH6: 1 | AI6: 1 | AJ6: 0.9 | AK6: 0.8 | AL6: 0.7 | AM6: 0.6 | AN6: 0.5 | AO6: 0.3 | AP6: 0.2 | AQ6: 0.1 | AR6: -0.1 | AS6: -0.3 | AT6: -0.4 | AU6: -0.6 | AV6: -0.8 | AW6: -1 | AX6: -1.2 | AY6: -1.5 | AZ6: -1.7 | BA6: -1.9 | BB6: -2.2 | BC6: -2.4 | BD6: -2.6 | BE6: -2.9 | BF6: -3.2 | BG6: -3.4 | BH6: -3.7 | BI6: -4 | BJ6: -4.3 | BK6: -4.6 | BL6: -4.9
A7: 2010 IGR | B7: % of GDP | AB7: -3.5 | AC7: -2.2 | AD7: -1 | AE7: -0.8 | AF7: -0.2 | AG7: 0.3 | AH7: 0.6 | AI7: 0.8 | AJ7: 1.1 | AK7: 1 | AL7: 1 | AM7: 1 | AN7: 0.9 | AO7: 0.9 | AP7: 0.8 | AQ7: 0.8 | AR7: 0.7 | AS7: 0.5 | AT7: 0.5 | AU7: 0.4 | AV7: 0.2 | AW7: 0.1 | AX7: 0 | AY7: -0.1 | AZ7: -0.3 | BA7: -0.5 | BB7: -0.6 | BC7: -0.8 | BD7: -1 | BE7: -1.2 | BF7: -1.4 | BG7: -1.6 | BH7: -1.9 | BI7: -2.1 | BJ7: -2.3 | BK7: -2.6 | BL7: -2.9 | BM7: -3.2 | BN7: -3.5 | BO7: -3.8
A8: 2015 IGR | B8: % of GDP | AF8: -2.5 | AG8: -1.9 | AH8: -1.2 | AI8: -0.6 | AJ8: -0.4 | AK8: 0.1 | AL8: 0.7 | AM8: 0.8 | AN8: 0.8 | AO8: 0.7 | AP8: 0.8 | AQ8: 0.9 | AR8: 0.9 | AS8: 1.1 | AT8: 1.1 | AU8: 1.1 | AV8: 1.1 | AW8: 1.2 | AX8: 1.2 | AY8: 1.3 | AZ8: 1.3 | BA8: 1.4 | BB8: 1.4 | BC8: 1.4 | BD8: 1.4 | BE8: 1.4 | BF8: 1.4 | BG8: 1.4 | BH8: 1.4 | BI8: 1.4 | BJ8: 1.4 | BK8: 1.3 | BL8: 1.3 | BM8: 1.3 | BN8: 1.2 | BO8: 1.1 | BP8: 1 | BQ8: 0.9 | BR8: 0.8 | BS8: 0.7 | BT8: 0.5
A9: 2021 IGR | B9: % of GDP | AL9: -7.8 | AM9: -5 | AN9: -4.6 | AO9: -3.5 | AP9: -2.4 | AQ9: -2.5 | AR9: -2.2 | AS9: -2.1 | AT9: -2 | AU9: -1.7 | AV9: -1.5 | AW9: -1.3 | AX9: -1.1 | AY9: -0.9 | AZ9: -0.7 | BA9: -0.7 | BB9: -0.7 | BC9: -0.8 | BD9: -0.8 | BE9: -0.9 | BF9: -1.1 | BG9: -1.1 | BH9: -1.3 | BI9: -1.3 | BJ9: -1.4 | BK9: -1.4 | BL9: -1.5 | BM9: -1.5 | BN9: -1.6 | BO9: -1.7 | BP9: -1.8 | BQ9: -1.7 | BR9: -1.8 | BS9: -1.8 | BT9: -2 | BU9: -1.9 | BV9: -2 | BW9: -2.1 | BX9: -2.2 | BY9: -2.2 | BZ9: -2.3
A10: 2023 IGR | B10: % of GDP | AM10: -1.4 | AN10: 0.2 | AO10: -0.5 | AP10: -1.3 | AQ10: -1.3 | AR10: -1 | AS10: -0.9 | AT10: -0.8 | AU10: -0.7 | AV10: -0.7 | AW10: -0.6 | AX10: -0.5 | AY10: -0.2 | AZ10: -0.1 | BA10: -0.3 | BB10: -0.2 | BC10: -0.3 | BD10: -0.3 | BE10: -0.3 | BF10: -0.5 | BG10: -0.4 | BH10: -0.5 | BI10: -0.5 | BJ10: -0.6 | BK10: -0.6 | BL10: -0.7 | BM10: -0.8 | BN10: -0.9 | BO10: -1.1 | BP10: -1.1 | BQ10: -1.1 | BR10: -1.2 | BS10: -1.3 | BT10: -1.5 | BU10: -1.5 | BV10: -1.7 | BW10: -1.8 | BX10: -2 | BY10: -2.1 | BZ10: -2.3 | CA10: -2.4 | CB10: -2.6
A11: 2026 IGR | B11: % of GDP | AP11: -0.4 | AQ11: -1 | AR11: -1 | AS11: -1 | AT11: -1 | AU11: -0.7 | AV11: -0.8 | AW11: -0.5 | AX11: -0.6 | AY11: -0.6 | AZ11: -0.6 | BA11: -0.4 | BB11: -0.3 | BC11: -0.4 | BD11: -0.4 | BE11: -0.4 | BF11: -0.6 | BG11: -0.4 | BH11: -0.4 | BI11: -0.4 | BJ11: -0.4 | BK11: -0.4 | BL11: -0.7 | BM11: -0.5 | BN11: -0.5 | BO11: -0.7 | BP11: -0.7 | BQ11: -0.6 | BR11: -0.7 | BS11: -0.7 | BT11: -0.8 | BU11: -0.8 | BV11: -0.9 | BW11: -0.9 | BX11: -1 | BY11: -1.1 | BZ11: -1.2 | CA11: -1.3 | CB11: -1.4 | CC11: -1.5 | CD11: -1.6 | CE11: -1.8
A13: Source: 2026 IGR, Chart 11.2, p.212.

Sheet Table 1
A1: Table 1: Key economic parameters - the economy
A3: Item | B3: Long-term projection period | D3: Comparison
B4: 2023 IGR | C4: 2026 IGR | D4: 2026 IGR and 2023 IGR
A5: Labour force participation rate (15+) (%) (final year of projection period) | B5: 63.8 | C5: 64.7 | D5: Participation rates have been successively revised upwards since the first IGR, and projections have been substantially upgraded in the 2026 IGR from the 2023 IGR. The difference between participation rates in the 2023 and 2026 IGR is shown in Chart 3. The participation rate in the 2026 IGR is projected to continue rising until 2039-40 (67.7%), driven by higher participation among women and older Australians, then decrease to 64.7% by 2065-66 due to population ageing.
A6: Productivity (% growth) | B6: 1.2 | C6: 1.2 | D6: Productivity growth is assumed to be 1.2% per year in the 2026 IGR, the same rate as the 2023 IGR.
A7: Population growth (% per year; annual average over the long-term projection period) (a) | B7: 1.1 | C7: 0.9 | D7: Long-run annual average population growth over the next 40 years is lower at 0.9% in the 2026 IGR, compared to 1.1% in the 2023 IGR. A lower fertility rate is identified in the IGR as the main driver of slower population growth and faster ageing. Longer life expectancy (higher than the 2023 IGR) and an older age structure will also contribute to the decrease in rates of natural increase (the difference between births and deaths).
A10: Fertility (babies per woman; last year of long-term projection period) (b) | B10: 1.62 | C10: 1.34 | D10: The long-term fertility rate used in the 2026 IGR is 1.34 births per woman. The long-term rate used in the 2023 IGR was 1.62 children per woman. The revised fertility rate is expected to be driven by delayed family formation and smaller family sizes.
A13: Mortality (annual deaths per year; last year of the projection period) | B13: 332000 | C13: 348000 | D13: The Australian Government Actuary (AGA) has reviewed the mortality improvement factors since the 2023 IGR and has lowered the rate of increase in life expectancy. This reflects evidence that the large improvements seen for those born 1930-1950 are unlikely to continue.
A16: Net overseas migration (NOM) (per year; constant from 2031-32 in the 2023 IGR and from 2030-31 in the 2026 IGR) | B16: 235000 | C16: 235000 | D16: Long-run NOM is the same as the 2023 IGR (and 2021 IGR), at 235,000 people per year. The average contribution to population growth from NOM is 0.7 percentage points, the same as the 2023 IGR.
A19: Nominal GDP (% growth; average over the long-term projection period) | B19: 4.6 | C19: 4.5 | D19: Annual nominal GDP growth over the long-term projection period is projected to be 4.5% in the 2026 IGR, lower than the 4.6% in the 2023 IGR. The downwards revision to nominal GDP growth reflects a decrease in projected real GDP growth. As productivity assumptions have been held constant and the labour force participation rate has been upgraded, the projected decrease in real GDP growth is driven by downgraded population growth assumptions.
A22: Inflation (CPI % growth) | B22: 2.5 | C22: 2.5 | D22: Inflation growth is set at 2.5% in the long-term in 2023 and 2026 IGRs consistent with the RBA fulfilling its mandate for the target inflation band.
A23: Wages (% growth) | B23: 3.7 | C23: 3.7 | D23: Nominal wages growth is projected to converge to 3.7% per year in the 2023 and 2026 IGRs, consistent with the projection for domestic inflation and the long-run labour productivity growth assumption.
A24: Terms of trade and commodity prices | B24: High | C24: Lower than 2023 | D24: The terms of trade measure export prices relative to import prices. In the 2023 IGR, the terms of trade were at a record high due to unusually high commodity prices caused by Russia’s invasion of Ukraine and tight global supply conditions. In the 2026 IGR the terms of trade have declined from their 2023 peak (Chart 2.5, 2026 IGR, p. 41).
A26: Source: 2026 IGR and 2023 IGR
A27: (a) In the 2026 IGR population growth is assumed to decline from 1.4% in 2025-26, to 0.8% by 2045-46 and 0.6% by 2065-66 (2026 IGR, Table A2.1). In the 2023 IGR, population growth is 1.1% on average and was assumed to decline from 2.0% in 2022-23, to 1.0% in 2042-43 and 0.8% by 2062-63 (2023 IGR, Table A3.1).
A28: (b) In the 2026 IGR the fertility rate is assumed to decline from 1.44 in 2025-26, to 1.41 by 2045-46 and 1.34 by 2065-66 (2026 IGR, Table A2.1). In the 2023 IGR, the fertility rate was assumed to decline from 1.66 in 2022-23, to 1.62 over the projection period from 2032-33.

Sheet Chart 2
A1: Chart 2: Impact on gross debt of population change scenarios
A3: Item | B3: Scenario | C3: Unit | D3: 2025-26 | E3: 2026-27 | F3: 2027-28 | G3: 2028-29 | H3: 2029-30 | I3: 2030-31 | J3: 2031-32 | K3: 2032-33 | L3: 2033-34 | M3: 2034-35 | N3: 2035-36 | O3: 2036-37 | P3: 2037-38 | Q3: 2038-39 | R3: 2039-40 | S3: 2040-41 | T3: 2041-42 | U3: 2042-43 | V3: 2043-44 | W3: 2044-45 | X3: 2045-46 | Y3: 2046-47 | Z3: 2047-48 | AA3: 2048-49 | AB3: 2049-50 | AC3: 2050-51 | AD3: 2051-52 | AE3: 2052-53 | AF3: 2053-54 | AG3: 2054-55 | AH3: 2055-56 | AI3: 2056-57 | AJ3: 2057-58 | AK3: 2058-59 | AL3: 2059-60 | AM3: 2060-61 | AN3: 2061-62 | AO3: 2062-63 | AP3: 2063-64 | AQ3: 2064-65 | AR3: 2065-66
A4: Underlying cash balance | B4: Lower | C4: % of GDP | D4: 33.1 | E4: 34 | F4: 35.2 | G4: 35.8 | H4: 35.6 | I4: 35.4 | J4: 34.7 | K4: 33.8 | L4: 33 | M4: 32.2 | N4: 31.4 | O4: 30.3 | P4: 29.6 | Q4: 28.7 | R4: 28 | S4: 27.3 | T4: 26.6 | U4: 26 | V4: 25.4 | W4: 24.9 | X4: 24.4 | Y4: 24.1 | Z4: 23.7 | AA4: 23.5 | AB4: 23.4 | AC4: 23.2 | AD4: 23.2 | AE4: 23.2 | AF4: 23.3 | AG4: 23.5 | AH4: 23.7 | AI4: 24.1 | AJ4: 24.5 | AK4: 25 | AL4: 25.7 | AM4: 26.4 | AN4: 27.3 | AO4: 28.4 | AP4: 29.5 | AQ4: 30.8 | AR4: 32.2
A5: Underlying cash balance | B5: Baseline | C5: % of GDP | D5: 33.1 | E5: 34 | F5: 35.2 | G5: 35.8 | H5: 35.6 | I5: 35.4 | J5: 34.7 | K5: 33.7 | L5: 33 | M5: 32.1 | N5: 31.3 | O5: 30.2 | P5: 29.4 | Q5: 28.5 | R5: 27.7 | S5: 27 | T5: 26.3 | U5: 25.7 | V5: 25.1 | W5: 24.5 | X5: 24 | Y5: 23.6 | Z5: 23.2 | AA5: 22.9 | AB5: 22.7 | AC5: 22.5 | AD5: 22.4 | AE5: 22.3 | AF5: 22.2 | AG5: 22.3 | AH5: 22.3 | AI5: 22.4 | AJ5: 22.6 | AK5: 22.9 | AL5: 23.3 | AM5: 23.7 | AN5: 24.2 | AO5: 24.9 | AP5: 25.6 | AQ5: 26.4 | AR5: 27.4
A6: Underlying cash balance | B6: Higher | C6: % of GDP | D6: 33.1 | E6: 34 | F6: 35.2 | G6: 35.8 | H6: 35.6 | I6: 35.4 | J6: 34.7 | K6: 33.8 | L6: 33 | M6: 32.1 | N6: 31.3 | O6: 30.1 | P6: 29.3 | Q6: 28.3 | R6: 27.5 | S6: 26.8 | T6: 26 | U6: 25.3 | V6: 24.7 | W6: 24.1 | X6: 23.5 | Y6: 23 | Z6: 22.6 | AA6: 22.3 | AB6: 22 | AC6: 21.7 | AD6: 21.5 | AE6: 21.3 | AF6: 21.1 | AG6: 21 | AH6: 20.9 | AI6: 20.8 | AJ6: 20.8 | AK6: 20.8 | AL6: 20.9 | AM6: 21.1 | AN6: 21.3 | AO6: 21.6 | AP6: 21.9 | AQ6: 22.4 | AR6: 22.9
A8: Source: 2026 IGR, Chart 8.4, p. 156.

Sheet Chart 3
A1: Chart 3: Projected participation rate 2026 and 2023 IGR
A3: Item | B3: Unit | C3: 1985-86 | D3: 1986-87 | E3: 1987-88 | F3: 1988-89 | G3: 1989-90 | H3: 1990-91 | I3: 1991-92 | J3: 1992-93 | K3: 1993-94 | L3: 1994-95 | M3: 1995-96 | N3: 1996-97 | O3: 1997-98 | P3: 1998-99 | Q3: 1999-00 | R3: 2000-01 | S3: 2001-02 | T3: 2002-03 | U3: 2003-04 | V3: 2004-05 | W3: 2005-06 | X3: 2006-07 | Y3: 2007-08 | Z3: 2008-09 | AA3: 2009-10 | AB3: 2010-11 | AC3: 2011-12 | AD3: 2012-13 | AE3: 2013-14 | AF3: 2014-15 | AG3: 2015-16 | AH3: 2016-17 | AI3: 2017-18 | AJ3: 2018-19 | AK3: 2019-20 | AL3: 2020-21 | AM3: 2021-22 | AN3: 2022-23 | AO3: 2023-24 | AP3: 2024-25 | AQ3: 2025-26 | AR3: 2026-27 | AS3: 2027-28 | AT3: 2028-29 | AU3: 2029-30 | AV3: 2030-31 | AW3: 2031-32 | AX3: 2032-33 | AY3: 2033-34 | AZ3: 2034-35 | BA3: 2035-36 | BB3: 2036-37 | BC3: 2037-38 | BD3: 2038-39 | BE3: 2039-40 | BF3: 2040-41 | BG3: 2041-42 | BH3: 2042-43 | BI3: 2043-44 | BJ3: 2044-45 | BK3: 2045-46 | BL3: 2046-47 | BM3: 2047-48 | BN3: 2048-49 | BO3: 2049-50 | BP3: 2050-51 | BQ3: 2051-52 | BR3: 2052-53 | BS3: 2053-54 | BT3: 2054-55 | BU3: 2055-56 | BV3: 2056-57 | BW3: 2057-58 | BX3: 2058-59 | BY3: 2059-60 | BZ3: 2060-61 | CA3: 2061-62 | CB3: 2062-63 | CC3: 2063-64 | CD3: 2064-65 | CE3: 2065-66
A4: Historical | B4: % population 15+ | C4: 61.4 | D4: 61.9 | E4: 62.1 | F4: 62.6 | G4: 63.5 | H4: 63.6 | I4: 62.9 | J4: 62.6 | K4: 62.7 | L4: 63.2 | M4: 63.6 | N4: 63.3 | O4: 63 | P4: 62.8 | Q4: 62.9 | R4: 63.2 | S4: 63.3 | T4: 63.6 | U4: 63.4 | V4: 63.9 | W4: 64.5 | X4: 65 | Y4: 65.4 | Z4: 65.5 | AA4: 65.3 | AB4: 65.5 | AC4: 65.3 | AD4: 65.1 | AE4: 64.7 | AF4: 64.7 | AG4: 65 | AH4: 64.7 | AI4: 65.3 | AJ4: 65.5 | AK4: 65.1 | AL4: 65.4 | AM4: 65.7 | AN4: 66.5 | AO4: 66.7 | AP4: 67 | AQ4: 66.8
A5: 2023 IGR | B5: % population 15+ | AN5: 66.6 | AO5: 66.4 | AP5: 66.2 | AQ5: 66.1 | AR5: 66.2 | AS5: 66.2 | AT5: 66.2 | AU5: 66.2 | AV5: 66.1 | AW5: 66.1 | AX5: 66 | AY5: 66 | AZ5: 66 | BA5: 65.9 | BB5: 65.9 | BC5: 65.9 | BD5: 65.8 | BE5: 65.8 | BF5: 65.8 | BG5: 65.7 | BH5: 65.7 | BI5: 65.7 | BJ5: 65.6 | BK5: 65.6 | BL5: 65.5 | BM5: 65.5 | BN5: 65.4 | BO5: 65.3 | BP5: 65.2 | BQ5: 65.1 | BR5: 65 | BS5: 64.9 | BT5: 64.8 | BU5: 64.7 | BV5: 64.5 | BW5: 64.4 | BX5: 64.3 | BY5: 64.2 | BZ5: 64.1 | CA5: 64 | CB5: 63.8
A6: 2026 IGR | B6: % population 15+ | AQ6: 66.8 | AR6: 66.9 | AS6: 67.1 | AT6: 67.2 | AU6: 67.4 | AV6: 67.5 | AW6: 67.5 | AX6: 67.5 | AY6: 67.6 | AZ6: 67.6 | BA6: 67.7 | BB6: 67.7 | BC6: 67.7 | BD6: 67.7 | BE6: 67.7 | BF6: 67.7 | BG6: 67.7 | BH6: 67.7 | BI6: 67.7 | BJ6: 67.7 | BK6: 67.6 | BL6: 67.5 | BM6: 67.4 | BN6: 67.4 | BO6: 67.2 | BP6: 67.1 | BQ6: 67 | BR6: 66.9 | BS6: 66.7 | BT6: 66.6 | BU6: 66.4 | BV6: 66.3 | BW6: 66.1 | BX6: 65.9 | BY6: 65.8 | BZ6: 65.6 | CA6: 65.4 | CB6: 65.3 | CC6: 65.1 | CD6: 64.9 | CE6: 64.7
A8: Source: 2026 IGR, Chart 9.1, p.173.

Sheet Chart 4
A1: Chart 4: Impact on underlying cash balance of productivity sensitivity analysis
A3: Item | B3: Scenario | C3: Unit | D3: 2025-26 | E3: 2026-27 | F3: 2027-28 | G3: 2028-29 | H3: 2029-30 | I3: 2030-31 | J3: 2031-32 | K3: 2032-33 | L3: 2033-34 | M3: 2034-35 | N3: 2035-36 | O3: 2036-37 | P3: 2037-38 | Q3: 2038-39 | R3: 2039-40 | S3: 2040-41 | T3: 2041-42 | U3: 2042-43 | V3: 2043-44 | W3: 2044-45 | X3: 2045-46 | Y3: 2046-47 | Z3: 2047-48 | AA3: 2048-49 | AB3: 2049-50 | AC3: 2050-51 | AD3: 2051-52 | AE3: 2052-53 | AF3: 2053-54 | AG3: 2054-55 | AH3: 2055-56 | AI3: 2056-57 | AJ3: 2057-58 | AK3: 2058-59 | AL3: 2059-60 | AM3: 2060-61 | AN3: 2061-62 | AO3: 2062-63 | AP3: 2063-64 | AQ3: 2064-65 | AR3: 2065-66
A4: Underlying cash balance | B4: Lower | C4: % of GDP | D4: -1 | E4: -1 | F4: -1 | G4: -1 | H4: -0.7 | I4: -0.9 | J4: -0.7 | K4: -0.7 | L4: -0.9 | M4: -0.9 | N4: -0.8 | O4: -0.8 | P4: -0.9 | Q4: -0.9 | R4: -0.9 | S4: -1.1 | T4: -1 | U4: -1.1 | V4: -1.1 | W4: -1.2 | X4: -1.3 | Y4: -1.6 | Z4: -1.5 | AA4: -1.5 | AB4: -1.7 | AC4: -1.9 | AD4: -1.8 | AE4: -2 | AF4: -2.1 | AG4: -2.2 | AH4: -2.3 | AI4: -2.5 | AJ4: -2.6 | AK4: -2.8 | AL4: -2.9 | AM4: -3.1 | AN4: -3.3 | AO4: -3.5 | AP4: -3.7 | AQ4: -3.9 | AR4: -4.2
A5: Underlying cash balance | B5: Baseline | C5: % of GDP | D5: -1 | E5: -1 | F5: -1 | G5: -1 | H5: -0.7 | I5: -0.8 | J5: -0.5 | K5: -0.6 | L5: -0.6 | M5: -0.6 | N5: -0.4 | O5: -0.3 | P5: -0.4 | Q5: -0.4 | R5: -0.4 | S5: -0.6 | T5: -0.4 | U5: -0.4 | V5: -0.4 | W5: -0.4 | X5: -0.4 | Y5: -0.7 | Z5: -0.5 | AA5: -0.5 | AB5: -0.7 | AC5: -0.7 | AD5: -0.6 | AE5: -0.7 | AF5: -0.7 | AG5: -0.8 | AH5: -0.8 | AI5: -0.9 | AJ5: -0.9 | AK5: -1 | AL5: -1.1 | AM5: -1.2 | AN5: -1.3 | AO5: -1.4 | AP5: -1.5 | AQ5: -1.6 | AR5: -1.8
A6: Underlying cash balance | B6: Higher | C6: % of GDP | D6: -1 | E6: -1 | F6: -1 | G6: -1 | H6: -0.7 | I6: -0.8 | J6: -0.4 | K6: -0.4 | L6: -0.4 | M6: -0.3 | N6: 0 | O6: 0.2 | P6: 0 | Q6: 0 | R6: 0.1 | S6: 0 | T6: 0.3 | U6: 0.3 | V6: 0.3 | W6: 0.4 | X6: 0.4 | Y6: 0.2 | Z6: 0.4 | AA6: 0.4 | AB6: 0.4 | AC6: 0.4 | AD6: 0.5 | AE6: 0.6 | AF6: 0.6 | AG6: 0.6 | AH6: 0.7 | AI6: 0.7 | AJ6: 0.7 | AK6: 0.7 | AL6: 0.7 | AM6: 0.7 | AN6: 0.7 | AO6: 0.6 | AP6: 0.6 | AQ6: 0.6 | AR6: 0.5
A8: Source: 2026 IGR, Chart 10.2, p. 195.

Sheet Table 2&3
A1: Table 2: Program-specific components of the Budget
A3: Program-specific
A4: Component of the Budget
A5: Receipts (Revenue) | B5: Tax receipts (a)
B6: • GST
B7: • Excise
B8: • Personal income
B9: • Company tax
B10: Future Fund earnings
B11: • Interest receipts
B12: • Dividends
B13: Interest receipts
B14: • Term deposits
B15: • AOFM investments
B16: • Other Funds
B17: Other receipts
B18: • Returns on financial assets
A19: Payments (Expenses) | B19: Health
B20: • Public hospital funding
B21: • Medical benefits scheme (MBS)
B22: • Pharmaceutical benefits scheme (PBS)
B23: • Private Health Insurance Rebate
B24: • Other health spending
B25: Aged care
B26: • Residential care
B27: • At-home care
B28: Income support payments and benefits
B29: • Age and Service Pensions
B30: • Austudy
B31: • Child Care Subsidy
... B45: GST payments to states (assumed to equal GST receipts plus the GST pool boost)
A46: Balance sheet items | B46: • Investment funds and government-financed investment vehicles
B47: • Australian Government Future Fund
B48: • Higher Education Loan Program (HELP)
B49: • Government employee superannuation
A53: Table 3: Constant share of GDP components of the Budget
A55: Constant % of GDP
A56: Component of the Budget
A57: Receipts (Revenue) | B57: • Tax receipts (a)
B58: • Non-taxation receipts
...

Sheet Chart 5
A1: Chart 5: Tax receipts as a share of GDP
A3: Item | B3: Unit | C3: 1985-86 | D3: 1986-87 | E3: 1987-88 | F3: 1988-89 | G3: 1989-90 | H3: 1990-91 | I3: 1991-92 | J3: 1992-93 | K3: 1993-94 | L3: 1994-95 | M3: 1995-96 | N3: 1996-97 | O3: 1997-98 | P3: 1998-99 | Q3: 1999-00 | R3: 2000-01 | S3: 2001-02 | T3: 2002-03 | U3: 2003-04 | V3: 2004-05 | W3: 2005-06 | X3: 2006-07 | Y3: 2007-08 | Z3: 2008-09 | AA3: 2009-10 | AB3: 2010-11 | AC3: 2011-12 | AD3: 2012-13 | AE3: 2013-14 | AF3: 2014-15 | AG3: 2015-16 | AH3: 2016-17 | AI3: 2017-18 | AJ3: 2018-19 | AK3: 2019-20 | AL3: 2020-21 | AM3: 2021-22 | AN3: 2022-23 | AO3: 2023-24 | AP3: 2024-25 | AQ3: 2025-26 | AR3: 2026-27 | AS3: 2027-28 | AT3: 2028-29 | AU3: 2029-30 | AV3: 2030-31 | AW3: 2031-32 | AX3: 2032-33 | AY3: 2033-34 | AZ3: 2034-35 | BA3: 2035-36 | BB3: 2036-37 | BC3: 2037-38 | BD3: 2038-39 | BE3: 2039-40 | BF3: 2040-41 | BG3: 2041-42 | BH3: 2042-43 | BI3: 2043-44 | BJ3: 2044-45 | BK3: 2045-46 | BL3: 2046-47 | BM3: 2047-48 | BN3: 2048-49 | BO3: 2049-50 | BP3: 2050-51 | BQ3: 2051-52 | BR3: 2052-53 | BS3: 2053-54 | BT3: 2054-55 | BU3: 2055-56 | BV3: 2056-57 | BW3: 2057-58 | BX3: 2058-59 | BY3: 2059-60 | BZ3: 2060-61 | CA3: 2061-62 | CB3: 2062-63 | CC3: 2063-64 | CD3: 2064-65 | CE3: 2065-66
A4: Tax receipts | B4: % of GDP | C4: 22.5 | D4: 23.2 | E4: 23.1 | F4: 22.6 | G4: 22.4 | H4: 22.3 | I4: 20.6 | J4: 20 | K4: 20 | L4: 21.1 | M4: 21.8 | N4: 22.3 | O4: 22.2 | P4: 22.2 | Q4: 22.8 | R4: 24 | S4: 23.1 | T4: 23.9 | U4: 23.9 | V4: 24.2 | W4: 24.2 | X4: 23.7 | Y4: 23.6 | Z4: 21.6 | AA4: 20 | AB4: 19.8 | AC4: 20.7 | AD4: 21.2 | AE4: 21.2 | AF4: 21.7 | AG4: 21.8 | AH4: 21.5 | AI4: 22.6 | AJ4: 22.9 | AK4: 21.7 | AL4: 22.7 | AM4: 23 | AN4: 23.3 | AO4: 23.6 | AP4: 23.7 | AQ4: 23.6 | AR4: 23.8 | AS4: 23.8 | AT4: 23.5 | AU4: 23.6 | AV4: 23.8 | AW4: 24.2 | AX4: 24.2 | AY4: 24.2 | AZ4: 24.2 | BA4: 24.2 | BB4: 24.2 | BC4: 24.2 | BD4: 24.2 | BE4: 24.2 | BF4: 24.2 | BG4: 24.2 | BH4: 24.2 | BI4: 24.2 | BJ4: 24.2 | BK4: 24.2 | BL4: 24.2 | BM4: 24.2 | BN4: 24.2 | BO4: 24.2 | BP4: 24.2 | BQ4: 24.2 | BR4: 24.2 | BS4: 24.2 | BT4: 24.2 | BU4: 24.2 | BV4: 24.2 | BW4: 24.2 | BX4: 24.2 | BY4: 24.2 | BZ4: 24.2 | CA4: 24.2 | CB4: 24.2 | CC4: 24.2 | CD4: 24.2 | CE4: 24.2
A6: Source: 2026 IGR, Chart 13.1, pg. 264.

Sheet Table 4&5
A1: Table 4: Sensitivity analysis - 3Ps (% of GDP)
I3: Change 2025-26 to 2065-66 (percentage points)
A4: Item | B4: Aggregate | C4: Scenario | D4: Assumption | E4: 2025-26 (% of GDP) | F4: 2036-37 (% of GDP) | G4: 2050-51 (% of GDP) | H4: 2065–66 (% of GDP)
A5: Population (IGR Box 8.1) | B5: Underlying cash balance | C5: Lower | D5: Long-run NOM, 185,000; Long-run fertility rate 1.24 | E5: -1 | F5: -0.3 | G5: -0.8 | H5: -2.4 | I5: -1.4
C6: Baseline | D6: Long-run NOM, 235,000; Long-run fertility rate 1.34 | E6: -1 | F6: -0.3 | G6: -0.7 | H6: -1.8 | I6: -0.8
C7: Higher | D7: Long-run NOM, 285,000; Long-run fertility rate 1.44 | E7: -1 | F7: -0.3 | G7: -0.6 | H7: -1.3 | I7: -0.3
B8: Gross debt | C8: Lower | D8: Long-run NOM, 185,000; Long-run fertility rate 1.24 | E8: 33.1 | F8: 30.3 | G8: 23.2 | H8: 32.2 | I8: -0.9
C9: Baseline | D9: Long-run NOM, 235,000; Long-run fertility rate 1.34 | E9: 33.1 | F9: 30.2 | G9: 22.5 | H9: 27.4 | I9: -5.7
C10: Higher | D10: Long-run NOM, 285,000; Long-run fertility rate 1.44 | E10: 33.1 | F10: 30.1 | G10: 21.7 | H10: 22.9 | I10: -10.2
A11: Participation (IGR Box 9.1) | B11: Underlying cash balance | C11: Lower | D11: Participation rate (15+) (%), 62.7 | E11: -1 | F11: -0.4 | G11: -1 | H11: -2.6 | I11: -1.6
C12: Baseline | D12: Participation rate (15+) (%), 64.7 | E12: -1 | F12: -0.3 | G12: -0.7 | H12: -1.8 | I12: -0.8
C13: Higher | D13: Participation rate (15+) (%), 66.7 | E13: -1 | F13: -0.2 | G13: -0.4 | H13: -1 | I13: 0
B14: Gross debt | C14: Lower | D14: Participation rate (15+) (%), 62.7 | E14: 33.1 | F14: 30.7 | G14: 25.3 | H14: 35.7 | I14: 2.6
C15: Baseline | D15: Participation rate (15+) (%), 64.7 | E15: 33.1 | F15: 30.2 | G15: 22.5 | H15: 27.4 | I15: -5.7
C16: Higher | D16: Participation rate (15+) (%), 66.7 | E16: 33.1 | F16: 29.8 | G16: 19.6 | H16: 19 | I16: -14.1
A17: Productivity (IGR Box 10.1) | B17: Underlying cash balance | C17: Lower | D17: Productivity growth (%), 0.8 | E17: -1 | F17: -0.8 | G17: -1.9 | H17: -4.2 | I17: -3.2
C18: Baseline | D18: Productivity growth (%), 1.2 | E18: -1 | F18: -0.3 | G18: -0.7 | H18: -1.8 | I18: -0.8
C19: Higher | D19: Productivity growth (%), 1.6 | E19: -1 | F19: 0.2 | G19: 0.4 | H19: 0.5 | I19: 1.5
B20: Gross debt | C20: Lower | D20: Productivity growth (%), 0.8 | E20: 33.1 | F20: 32.6 | G20: 33.5 | H20: 55.9 | I20: 22.8
C21: Baseline | D21: Productivity growth (%), 1.2 | E21: 33.1 | F21: 30.2 | G21: 22.5 | H21: 27.4 | I21: -5.7
C22: Higher | D22: Productivity growth (%), 1.6 | E22: 33.1 | F22: 28 | G22: 12.3 | H22: 2.4 | I22: -30.7
A24: Table 5: Sensitivity analysis - Bond yields, spending and taxation receipts (% GDP)
I26: Change 2025-26 to 2065-66 (percentage points)
A27: Item | B27: Aggregate | C27: Scenario | D27: Assumption | E27: 2025-26 (% of GDP) | F27: 2036-37 (% of GDP) | G27: 2050-51 (% of GDP) | H27: 2065–66 (% of GDP)
A28: Government bond yields (IGR Box 11.3) | B28: Underlying cash balance | C28: Lower | D28: Average long-term bond yield (%), 3.4 (a) | E28: -1 | F28: -0.3 | G28: -0.5 | H28: -1.4 | I28: -0.4
C29: Baseline | D29: Average long-term bond yield (%), 4.4 (a) | E29: -1 | F29: -0.3 | G29: -0.7 | H29: -1.8 | I29: -0.8
C30: Higher | D30: Average long-term bond yield (%), 5.4 (a) | E30: -1 | F30: -0.3 | G30: -1 | H30: -2.3 | I30: -1.3
B31: Gross debt | C31: Lower | D31: Average long-term bond yield (%), 3.4 (a) | E31: 33.1 | F31: 29.8 | G31: 20.5 | H31: 22.4 | I31: -10.7
C32: Baseline | D32: Average long-term bond yield (%), 4.4 (a) | E32: 33.1 | F32: 30.2 | G32: 22.5 | H32: 27.4 | I32: -5.7
C33: Higher | D33: Average long-term bond yield (%), 5.4 (a) | E33: 33.1 | F33: 30.6 | G33: 24.8 | H33: 34 | I33: 0.9
A34: Aggregate spending (IGR Box 12.1) | B34: Underlying cash balance | C34: Lower | D34: Aggregate spending (% GDP long-run), 26.7 (b) | E34: -1 | F34: 0.9 | G34: 1.1 | H34: 0.5 | I34: 1.5
C35: Baseline | D35: Aggregate spending (% GDP long-run), 27.7 (b) | E35: -1 | F35: -0.3 | G35: -0.7 | H35: -1.8 | I35: -0.8
C36: Higher | D36: Aggregate spending (% GDP long-run), 28.7 (b) | E36: -1 | F36: -1.4 | G36: -2.5 | H36: -4.2 | I36: -3.2
B37: Gross debt | C37: Lower | D37: Aggregate spending (% GDP long-run), 26.7 (b) | E37: 33.1 | F37: 26 | G37: 4 | H37: 0.6 | I37: -32.5
C38: Baseline | D38: Aggregate spending (% GDP long-run), 27.7 (b) | E38: 33.1 | F38: 30.2 | G38: 22.5 | H38: 27.4 | I38: -5.7
C39: Higher | D39: Aggregate spending (% GDP long-run), 28.7 (b) | E39: 33.1 | F39: 34.4 | G39: 41.2 | H39: 62 | I39: 28.9
A40: Tax assumption (IGR Box 13.2) | B40: Underlying cash balance | C40: Lower | D40: Tax receipts (% GDP), 23.2 (c) | E40: -1 | F40: -1.4 | G40: -2.5 | H40: -4.2 | I40: -3.2
C41: Baseline | D41: Tax receipts (% GDP), 24.2 (c) | E41: -1 | F41: -0.3 | G41: -0.7 | H41: -1.8 | I41: -0.8
C42: Higher | D42: Tax receipts (% GDP), 25.2 (c) | E42: -1 | F42: 0.8 | G42: 1.1 | H42: 0.5 | I42: 1.5
B43: Gross debt | C43: Lower | D43: Tax receipts (% GDP), 23.2 (c) | E43: 33.1 | F43: 33.2 | G43: 40.3 | H43: 61.5 | I43: 28.4
...

Sheet Table 4a&5a
A1: Additional table: All 2026 IGR sensitivity analyses (% of GDP)
A3: Item | B3: Aggregate | C3: Scenario | D3: Assumption | E3: 2025-26 | F3: 2026-27 | G3: 2027-28 | H3: 2028-29 | I3: 2029-30 | J3: 2030-31 | K3: 2031-32 | L3: 2032-33 | M3: 2033-34 | N3: 2034-35 | O3: 2035-36 | P3: 2036-37 | Q3: 2037-38 | R3: 2038-39 | S3: 2039-40 | T3: 2040-41 | U3: 2041-42 | V3: 2042-43 | W3: 2043-44 | X3: 2044-45 | Y3: 2045-46 | Z3: 2046-47 | AA3: 2047-48 | AB3: 2048-49 | AC3: 2049-50 | AD3: 2050-51 | AE3: 2051-52 | AF3: 2052-53 | AG3: 2053-54 | AH3: 2054-55 | AI3: 2055-56 | AJ3: 2056-57 | AK3: 2057-58 | AL3: 2058-59 | AM3: 2059-60 | AN3: 2060-61 | AO3: 2061-62 | AP3: 2062-63 | AQ3: 2063-64 | AR3: 2064-65 | AS3: 2065-66
A4: Population (IGR Box 8.1) | B4: Underlying cash balance | C4: Lower | D4: Long-run NOM, 185,000; Long-run fertility rate 1.24 | E4: -1 | F4: -1 | G4: -1 | H4: -1 | I4: -0.7 | J4: -0.8 | K4: -0.5 | L4: -0.6 | M4: -0.6 | N4: -0.6 | O4: -0.4 | P4: -0.3 | Q4: -0.4 | R4: -0.4 | S4: -0.4 | T4: -0.6 | U4: -0.4 | V4: -0.4 | W4: -0.4 | X4: -0.4 | Y4: -0.5 | Z4: -0.7 | AA4: -0.6 | AB4: -0.6 | AC4: -0.7 | AD4: -0.8 | AE4: -0.7 | AF4: -0.8 | AG4: -0.9 | AH4: -1 | AI4: -1 | AJ4: -1.1 | AK4: -1.2 | AL4: -1.3 | AM4: -1.4 | AN4: -1.6 | AO4: -1.7 | AP4: -1.8 | AQ4: -2 | AR4: -2.2 | AS4: -2.4
C5: Baseline | D5: Long-run NOM, 235,000; Long-run fertility rate 1.34 | E5: -1 | F5: -1 | G5: -1 | H5: -1 | I5: -0.7 | J5: -0.8 | K5: -0.5 | L5: -0.6 | M5: -0.6 | N5: -0.6 | O5: -0.4 | P5: -0.3 | Q5: -0.4 | R5: -0.4 | S5: -0.4 | T5: -0.6 | U5: -0.4 | V5: -0.4 | W5: -0.4 | X5: -0.4 | Y5: -0.4 | Z5: -0.7 | AA5: -0.5 | AB5: -0.5 | AC5: -0.7 | AD5: -0.7 | AE5: -0.6 | AF5: -0.7 | AG5: -0.7 | AH5: -0.8 | AI5: -0.8 | AJ5: -0.9 | AK5: -0.9 | AL5: -1 | AM5: -1.1 | AN5: -1.2 | AO5: -1.3 | AP5: -1.4 | AQ5: -1.5 | AR5: -1.6 | AS5: -1.8
C6: Higher | D6: Long-run NOM, 285,000; Long-run fertility rate 1.44 | E6: -1 | F6: -1 | G6: -1 | H6: -1 | I6: -0.7 | J6: -0.8 | K6: -0.5 | L6: -0.6 | M6: -0.6 | N6: -0.6 | O6: -0.4 | P6: -0.3 | Q6: -0.4 | R6: -0.4 | S6: -0.4 | T6: -0.5 | U6: -0.3 | V6: -0.4 | W6: -0.4 | X6: -0.4 | Y6: -0.4 | Z6: -0.7 | AA6: -0.5 | AB6: -0.5 | AC6: -0.6 | AD6: -0.6 | AE6: -0.6 | AF6: -0.6 | AG6: -0.6 | AH6: -0.6 | AI6: -0.6 | AJ6: -0.7 | AK6: -0.7 | AL6: -0.7 | AM6: -0.8 | AN6: -0.9 | AO6: -0.9 | AP6: -1 | AQ6: -1.1 | AR6: -1.1 | AS6: -1.3
B7: Gross debt | C7: Lower | D7: Long-run NOM, 185,000; Long-run fertility rate 1.24 | E7: 33.1 | F7: 34 | G7: 35.2 | H7: 35.8 | I7: 35.6 | J7: 35.4 | K7: 34.7 | L7: 33.8 | M7: 33 | N7: 32.2 | O7: 31.4 | P7: 30.3 | Q7: 29.6 | R7: 28.7 | S7: 28 | T7: 27.3 | U7: 26.6 | V7: 26 | W7: 25.4 | X7: 24.9 | Y7: 24.4 | Z7: 24.1 | AA7: 23.7 | AB7: 23.5 | AC7: 23.4 | AD7: 23.2 | AE7: 23.2 | AF7: 23.2 | AG7: 23.3 | AH7: 23.5 | AI7: 23.7 | AJ7: 24.1 | AK7: 24.5 | AL7: 25 | AM7: 25.7 | AN7: 26.4 | AO7: 27.3 | AP7: 28.4 | AQ7: 29.5 | AR7: 30.8 | AS7: 32.2
C8: Baseline | D8: Long-run NOM, 235,000; Long-run fertility rate 1.34 | E8: 33.1 | F8: 34 | G8: 35.2 | H8: 35.8 | I8: 35.6 | J8: 35.4 | K8: 34.7 | L8: 33.7 | M8: 33 | N8: 32.1 | O8: 31.3 | P8: 30.2 | Q8: 29.4 | R8: 28.5 | S8: 27.7 | T8: 27 | U8: 26.3 | V8: 25.7 | W8: 25.1 | X8: 24.5 | Y8: 24 | Z8: 23.6 | AA8: 23.2 | AB8: 22.9 | AC8: 22.7 | AD8: 22.5 | AE8: 22.4 | AF8: 22.3 | AG8: 22.2 | AH8: 22.3 | AI8: 22.3 | AJ8: 22.4 | AK8: 22.6 | AL8: 22.9 | AM8: 23.3 | AN8: 23.7 | AO8: 24.2 | AP8: 24.9 | AQ8: 25.6 | AR8: 26.4 | AS8: 27.4
C9: Higher | D9: Long-run NOM, 285,000; Long-run fertility rate 1.44 | E9: 33.1 | F9: 34 | G9: 35.2 | H9: 35.8 | I9: 35.6 | J9: 35.4 | K9: 34.7 | L9: 33.8 | M9: 33 | N9: 32.1 | O9: 31.3 | P9: 30.1 | Q9: 29.3 | R9: 28.3 | S9: 27.5 | T9: 26.8 | U9: 26 | V9: 25.3 | W9: 24.7 | X9: 24.1 | Y9: 23.5 | Z9: 23 | AA9: 22.6 | AB9: 22.3 | AC9: 22 | AD9: 21.7 | AE9: 21.5 | AF9: 21.3 | AG9: 21.1 | AH9: 21 | AI9: 20.9 | AJ9: 20.8 | AK9: 20.8 | AL9: 20.8 | AM9: 20.9 | AN9: 21.1 | AO9: 21.3 | AP9: 21.6 | AQ9: 21.9 | AR9: 22.4 | AS9: 22.9
A10: Participation (IGR Box 9.1) | B10: Underlying cash balance | C10: Lower | D10: Participation rate (15+) (%), 62.7 | E10: -1 | F10: -1 | G10: -1 | H10: -1 | I10: -0.7 | J10: -0.8 | K10: -0.6 | L10: -0.6 | M10: -0.7 | N10: -0.7 | O10: -0.5 | P10: -0.4 | Q10: -0.5 | R10: -0.5 | S10: -0.5 | T10: -0.7 | U10: -0.5 | V10: -0.6 | W10: -0.6 | X10: -0.6 | Y10: -0.7 | Z10: -1 | AA10: -0.8 | AB10: -0.8 | AC10: -1 | AD10: -1 | AE10: -1 | AF10: -1.1 | AG10: -1.1 | AH10: -1.2 | AI10: -1.3 | AJ10: -1.4 | AK10: -1.5 | AL10: -1.6 | AM10: -1.7 | AN10: -1.8 | AO10: -1.9 | AP10: -2.1 | AQ10: -2.2 | AR10: -2.4 | AS10: -2.6
C11: Baseline | D11: Participation rate (15+) (%), 64.7 | E11: -1 | F11: -1 | G11: -1 | H11: -1 | I11: -0.7 | J11: -0.8 | K11: -0.5 | L11: -0.6 | M11: -0.6 | N11: -0.6 | O11: -0.4 | P11: -0.3 | Q11: -0.4 | R11: -0.4 | S11: -0.4 | T11: -0.6 | U11: -0.4 | V11: -0.4 | W11: -0.4 | X11: -0.4 | Y11: -0.4 | Z11: -0.7 | AA11: -0.5 | AB11: -0.5 | AC11: -0.7 | AD11: -0.7 | AE11: -0.6 | AF11: -0.7 | AG11: -0.7 | AH11: -0.8 | AI11: -0.8 | AJ11: -0.9 | AK11: -0.9 | AL11: -1 | AM11: -1.1 | AN11: -1.2 | AO11: -1.3 | AP11: -1.4 | AQ11: -1.5 | AR11: -1.6 | AS11: -1.8
C12: Higher | D12: Participation rate (15+) (%), 66.7 | E12: -1 | F12: -1 | G12: -1 | H12: -1 | I12: -0.7 | J12: -0.8 | K12: -0.5 | L12: -0.5 | M12: -0.6 | N12: -0.5 | O12: -0.3 | P12: -0.2 | Q12: -0.3 | R12: -0.3 | S12: -0.2 | T12: -0.4 | U12: -0.2 | V12: -0.2 | W12: -0.2 | X12: -0.2 | Y12: -0.2 | Z12: -0.4 | AA12: -0.2 | AB12: -0.2 | AC12: -0.3 | AD12: -0.4 | AE12: -0.3 | AF12: -0.3 | AG12: -0.3 | AH12: -0.4 | AI12: -0.4 | AJ12: -0.4 | AK12: -0.4 | AL12: -0.5 | AM12: -0.5 | AN12: -0.6 | AO12: -0.7 | AP12: -0.7 | AQ12: -0.8 | AR12: -0.9 | AS12: -1
B13: Gross debt | C13: Lower | D13: Participation rate (15+) (%), 62.7 | E13: 33.1 | F13: 34 | G13: 35.2 | H13: 35.8 | I13: 35.6 | J13: 35.4 | K13: 34.8 | L13: 33.9 | M13: 33.2 | N13: 32.4 | O13: 31.7 | P13: 30.7 | Q13: 30 | R13: 29.2 | S13: 28.6 | T13: 28 | U13: 27.4 | V13: 26.9 | W13: 26.5 | X13: 26.1 | Y13: 25.8 | Z13: 25.5 | AA13: 25.4 | AB13: 25.3 | AC13: 25.3 | AD13: 25.3 | AE13: 25.4 | AF13: 25.6 | AG13: 25.8 | AH13: 26.2 | AI13: 26.5 | AJ13: 27 | AK13: 27.5 | AL13: 28.1 | AM13: 28.9 | AN13: 29.7 | AO13: 30.7 | AP13: 31.7 | AQ13: 32.9 | AR13: 34.2 | AS13: 35.7
C14: Baseline | D14: Participation rate (15+) (%), 64.7 | E14: 33.1 | F14: 34 | G14: 35.2 | H14: 35.8 | I14: 35.6 | J14: 35.4 | K14: 34.7 | L14: 33.7 | M14: 33 | N14: 32.1 | O14: 31.3 | P14: 30.2 | Q14: 29.4 | R14: 28.5 | S14: 27.7 | T14: 27 | U14: 26.3 | V14: 25.7 | W14: 25.1 | X14: 24.5 | Y14: 24 | Z14: 23.6 | AA14: 23.2 | AB14: 22.9 | AC14: 22.7 | AD14: 22.5 | AE14: 22.4 | AF14: 22.3 | AG14: 22.2 | AH14: 22.3 | AI14: 22.3 | AJ14: 22.4 | AK14: 22.6 | AL14: 22.9 | AM14: 23.3 | AN14: 23.7 | AO14: 24.2 | AP14: 24.9 | AQ14: 25.6 | AR14: 26.4 | AS14: 27.4
C15: Higher | D15: Participation rate (15+) (%), 66.7 | E15: 33.1 | F15: 34 | G15: 35.2 | H15: 35.8 | I15: 35.6 | J15: 35.4 | K15: 34.6 | L15: 33.6 | M15: 32.8 | N15: 31.9 | O15: 30.9 | P15: 29.8 | Q15: 28.8 | R15: 27.8 | S15: 26.9 | T15: 26.1 | U15: 25.2 | V15: 24.4 | W15: 23.6 | X15: 22.9 | Y15: 22.2 | Z15: 21.5 | AA15: 21 | AB15: 20.4 | AC15: 20 | AD15: 19.6 | AE15: 19.2 | AF15: 18.8 | AG15: 18.4 | AH15: 18.2 | AI15: 17.9 | AJ15: 17.7 | AK15: 17.6 | AL15: 17.5 | AM15: 17.5 | AN15: 17.5 | AO15: 17.6 | AP15: 17.8 | AQ15: 18.1 | AR15: 18.5 | AS15: 19
A16: Productivity (IGR Box 10.1) | B16: Underlying cash balance | C16: Lower | D16: Productivity growth (%), 0.8 | E16: -1 | F16: -1 | G16: -1 | H16: -1 | I16: -0.7 | J16: -0.9 | K16: -0.7 | L16: -0.7 | M16: -0.9 | N16: -0.9 | O16: -0.8 | P16: -0.8 | Q16: -0.9 | R16: -0.9 | S16: -0.9 | T16: -1.1 | U16: -1 | V16: -1.1 | W16: -1.1 | X16: -1.2 | Y16: -1.3 | Z16: -1.6 | AA16: -1.5 | AB16: -1.5 | AC16: -1.7 | AD16: -1.9 | AE16: -1.8 | AF16: -2 | AG16: -2.1 | AH16: -2.2 | AI16: -2.3 | AJ16: -2.5 | AK16: -2.6 | AL16: -2.8 | AM16: -2.9 | AN16: -3.1 | AO16: -3.3 | AP16: -3.5 | AQ16: -3.7 | AR16: -3.9 | AS16: -4.2
C17: Baseline | D17: Productivity growth (%), 1.2 | E17: -1 | F17: -1 | G17: -1 | H17: -1 | I17: -0.7 | J17: -0.8 | K17: -0.5 | L17: -0.6 | M17: -0.6 | N17: -0.6 | O17: -0.4 | P17: -0.3 | Q17: -0.4 | R17: -0.4 | S17: -0.4 | T17: -0.6 | U17: -0.4 | V17: -0.4 | W17: -0.4 | X17: -0.4 | Y17: -0.4 | Z17: -0.7 | AA17: -0.5 | AB17: -0.5 | AC17: -0.7 | AD17: -0.7 | AE17: -0.6 | AF17: -0.7 | AG17: -0.7 | AH17: -0.8 | AI17: -0.8 | AJ17: -0.9 | AK17: -0.9 | AL17: -1 | AM17: -1.1 | AN17: -1.2 | AO17: -1.3 | AP17: -1.4 | AQ17: -1.5 | AR17: -1.6 | AS17: -1.8
C18: Higher | D18: Productivity growth (%), 1.6 | E18: -1 | F18: -1 | G18: -1 | H18: -1 | I18: -0.7 | J18: -0.8 | K18: -0.4 | L18: -0.4 | M18: -0.4 | N18: -0.3 | O18: 0 | P18: 0.2 | Q18: 0 | R18: 0 | S18: 0.1 | T18: 0 | U18: 0.3 | V18: 0.3 | W18: 0.3 | X18: 0.4 | Y18: 0.4 | Z18: 0.2 | AA18: 0.4 | AB18: 0.4 | AC18: 0.4 | AD18: 0.4 | AE18: 0.5 | AF18: 0.6 | AG18: 0.6 | AH18: 0.6 | AI18: 0.7 | AJ18: 0.7 | AK18: 0.7 | AL18: 0.7 | AM18: 0.7 | AN18: 0.7 | AO18: 0.7 | AP18: 0.6 | AQ18: 0.6 | AR18: 0.6 | AS18: 0.5
B19: Gross debt | C19: Lower | D19: Productivity growth (%), 0.8 | E19: 33.1 | F19: 34 | G19: 35.2 | H19: 35.8 | I19: 35.6 | J19: 35.5 | K19: 35.1 | L19: 34.4 | M19: 34 | N19: 33.5 | O19: 33.2 | P19: 32.6 | Q19: 32.2 | R19: 31.8 | S19: 31.5 | T19: 31.4 | U19: 31.2 | V19: 31.1 | W19: 31.1 | X19: 31.1 | Y19: 31.3 | Z19: 31.5 | AA19: 31.9 | AB19: 32.3 | AC19: 32.9 | AD19: 33.5 | AE19: 34.2 | AF19: 35 | AG19: 35.8 | AH19: 36.9 | AI19: 37.9 | AJ19: 39.1 | AK19: 40.4 | AL19: 41.9 | AM19: 43.4 | AN19: 45.1 | AO19: 47 | AP19: 49 | AQ19: 51.1 | AR19: 53.4 | AS19: 55.9
C20: Baseline | D20: Productivity growth (%), 1.2 | E20: 33.1 | F20: 34 | G20: 35.2 | H20: 35.8 | I20: 35.6 | J20: 35.4 | K20: 34.7 | L20: 33.7 | M20: 33 | N20: 32.1 | O20: 31.3 | P20: 30.2 | Q20: 29.4 | R20: 28.5 | S20: 27.7 | T20: 27 | U20: 26.3 | V20: 25.7 | W20: 25.1 | X20: 24.5 | Y20: 24 | Z20: 23.6 | AA20: 23.2 | AB20: 22.9 | AC20: 22.7 | AD20: 22.5 | AE20: 22.4 | AF20: 22.3 | AG20: 22.2 | AH20: 22.3 | AI20: 22.3 | AJ20: 22.4 | AK20: 22.6 | AL20: 22.9 | AM20: 23.3 | AN20: 23.7 | AO20: 24.2 | AP20: 24.9 | AQ20: 25.6 | AR20: 26.4 | AS20: 27.4
C21: Higher | D21: Productivity growth (%), 1.6 | E21: 33.1 | F21: 34 | G21: 35.2 | H21: 35.8 | I21: 35.6 | J21: 35.3 | K21: 34.3 | L21: 33.1 | M21: 32 | N21: 30.8 | O21: 29.5 | P21: 28 | Q21: 26.8 | R21: 25.4 | S21: 24.2 | T21: 23 | U21: 21.8 | V21: 20.6 | W21: 19.5 | X21: 18.3 | Y21: 17.2 | Z21: 16.2 | AA21: 15.2 | AB21: 14.2 | AC21: 13.3 | AD21: 12.3 | AE21: 11.4 | AF21: 10.4 | AG21: 9.5 | AH21: 8.7 | AI21: 7.8 | AJ21: 7 | AK21: 6.2 | AL21: 5.4 | AM21: 4.6 | AN21: 4 | AO21: 3.7 | AP21: 3.4 | AQ21: 2.9 | AR21: 2.6 | AS21: 2.4
A22: Government bond yields (IGR Box 11.3) | B22: Underlying cash balance | C22: Lower | D22: Average long-term bond yield (%), 3.4 (a) | E22: -1 | F22: -1 | G22: -1 | H22: -1 | I22: -0.7 | J22: -0.8 | K22: -0.5 | L22: -0.6 | M22: -0.6 | N22: -0.6 | O22: -0.4 | P22: -0.3 | Q22: -0.4 | R22: -0.4 | S22: -0.3 | T22: -0.5 | U22: -0.3 | V22: -0.3 | W22: -0.3 | X22: -0.3 | Y22: -0.3 | Z22: -0.5 | AA22: -0.4 | AB22: -0.4 | AC22: -0.5 | AD22: -0.5 | AE22: -0.4 | AF22: -0.5 | AG22: -0.5 | AH22: -0.6 | AI22: -0.6 | AJ22: -0.6 | AK22: -0.7 | AL22: -0.7 | AM22: -0.8 | AN22: -0.9 | AO22: -1 | AP22: -1.1 | AQ22: -1.2 | AR22: -1.3 | AS22: -1.4
C23: Baseline | D23: Average long-term bond yield (%), 4.4 (a) | E23: -1 | F23: -1 | G23: -1 | H23: -1 | I23: -0.7 | J23: -0.8 | K23: -0.5 | L23: -0.6 | M23: -0.6 | N23: -0.6 | O23: -0.4 | P23: -0.3 | Q23: -0.4 | R23: -0.4 | S23: -0.4 | T23: -0.6 | U23: -0.4 | V23: -0.4 | W23: -0.4 | X23: -0.4 | Y23: -0.4 | Z23: -0.7 | AA23: -0.5 | AB23: -0.5 | AC23: -0.7 | AD23: -0.7 | AE23: -0.6 | AF23: -0.7 | AG23: -0.7 | AH23: -0.8 | AI23: -0.8 | AJ23: -0.9 | AK23: -0.9 | AL23: -1 | AM23: -1.1 | AN23: -1.2 | AO23: -1.3 | AP23: -1.4 | AQ23: -1.5 | AR23: -1.6 | AS23: -1.8
C24: Higher | D24: Average long-term bond yield (%), 5.4 (a) | E24: -1 | F24: -1 | G24: -1 | H24: -1 | I24: -0.7 | J24: -0.8 | K24: -0.5 | L24: -0.6 | M24: -0.6 | N24: -0.6 | O24: -0.4 | P24: -0.3 | Q24: -0.4 | R24: -0.5 | S24: -0.4 | T24: -0.6 | U24: -0.4 | V24: -0.5 | W24: -0.5 | X24: -0.6 | Y24: -0.6 | Z24: -0.9 | AA24: -0.7 | AB24: -0.8 | AC24: -0.9 | AD24: -1 | AE24: -0.9 | AF24: -1 | AG24: -1 | AH24: -1.1 | AI24: -1.2 | AJ24: -1.2 | AK24: -1.3 | AL24: -1.4 | AM24: -1.5 | AN24: -1.6 | AO24: -1.7 | AP24: -1.8 | AQ24: -2 | AR24: -2.1 | AS24: -2.3
B25: Gross debt | C25: Lower | D25: Average long-term bond yield (%), 3.4 (a) | E25: 33.1 | F25: 34 | G25: 35.2 | H25: 35.8 | I25: 35.6 | J25: 35.4 | K25: 34.7 | L25: 33.7 | M25: 32.8 | N25: 31.9 | O25: 31 | P25: 29.8 | Q25: 29 | R25: 28.1 | S25: 27.2 | T25: 26.5 | U25: 25.6 | V25: 24.9 | W25: 24.2 | X25: 23.5 | Y25: 22.9 | Z25: 22.3 | AA25: 21.8 | AB25: 21.3 | AC25: 20.9 | AD25: 20.5 | AE25: 20.2 | AF25: 19.9 | AG25: 19.6 | AH25: 19.5 | AI25: 19.4 | AJ25: 19.3 | AK25: 19.3 | AL25: 19.4 | AM25: 19.5 | AN25: 19.8 | AO25: 20.1 | AP25: 20.5 | AQ25: 21 | AR25: 21.7 | AS25: 22.4
C26: Baseline | D26: Average long-term bond yield (%), 4.4 (a) | E26: 33.1 | F26: 34 | G26: 35.2 | H26: 35.8 | I26: 35.6 | J26: 35.4 | K26: 34.7 | L26: 33.7 | M26: 33 | N26: 32.1 | O26: 31.3 | P26: 30.2 | Q26: 29.4 | R26: 28.5 | S26: 27.7 | T26: 27 | U26: 26.3 | V26: 25.7 | W26: 25.1 | X26: 24.5 | Y26: 24 | Z26: 23.6 | AA26: 23.2 | AB26: 22.9 | AC26: 22.7 | AD26: 22.5 | AE26: 22.4 | AF26: 22.3 | AG26: 22.2 | AH26: 22.3 | AI26: 22.3 | AJ26: 22.4 | AK26: 22.6 | AL26: 22.9 | AM26: 23.3 | AN26: 23.7 | AO26: 24.2 | AP26: 24.9 | AQ26: 25.6 | AR26: 26.4 | AS26: 27.4
C27: Higher | D27: Average long-term bond yield (%), 5.4 (a) | E27: 33.1 | F27: 34 | G27: 35.2 | H27: 35.8 | I27: 35.6 | J27: 35.4 | K27: 34.7 | L27: 33.8 | M27: 33.1 | N27: 32.3 | O27: 31.6 | P27: 30.6 | Q27: 29.8 | R27: 28.9 | S27: 28.2 | T27: 27.6 | U27: 27 | V27: 26.5 | W27: 26 | X27: 25.6 | Y27: 25.3 | Z27: 25 | AA27: 24.9 | AB27: 24.8 | AC27: 24.8 | AD27: 24.8 | AE27: 24.9 | AF27: 25.1 | AG27: 25.3 | AH27: 25.6 | AI27: 25.9 | AJ27: 26.3 | AK27: 26.7 | AL27: 27.3 | AM27: 27.9 | AN27: 28.7 | AO27: 29.5 | AP27: 30.4 | AQ27: 31.5 | AR27: 32.7 | AS27: 34
A28: Aggregate spending (IGR Box 12.1) | B28: Underlying cash balance | C28: Lower | D28: Aggregate spending (% GDP long-run), 26.7 (b) | E28: -1 | F28: -1 | G28: -1 | H28: -1 | I28: -0.7 | J28: -0.7 | K28: -0.2 | L28: -0.1 | M28: 0 | N28: 0.2 | O28: 0.5 | P28: 0.9 | Q28: 0.8 | R28: 0.8 | S28: 0.9 | T28: 0.8 | U28: 1 | V28: 1 | W28: 1.1 | X28: 1.1 | Y28: 1.1 | Z28: 1 | AA28: 1.1 | AB28: 1.2 | AC28: 1.1 | AD28: 1.1 | AE28: 1.2 | AF28: 1.2 | AG28: 1.2 | AH28: 1.1 | AI28: 1.1 | AJ28: 1.1 | AK28: 1.1 | AL28: 1.1 | AM28: 1 | AN28: 0.9 | AO28: 0.9 | AP28: 0.8 | AQ28: 0.7 | AR28: 0.6 | AS28: 0.5
C29: Baseline | D29: Aggregate spending (% GDP long-run), 27.7 (b) | E29: -1 | F29: -1 | G29: -1 | H29: -1 | I29: -0.7 | J29: -0.8 | K29: -0.5 | L29: -0.6 | M29: -0.6 | N29: -0.6 | O29: -0.4 | P29: -0.3 | Q29: -0.4 | R29: -0.4 | S29: -0.4 | T29: -0.6 | U29: -0.4 | V29: -0.4 | W29: -0.4 | X29: -0.4 | Y29: -0.4 | Z29: -0.7 | AA29: -0.5 | AB29: -0.5 | AC29: -0.7 | AD29: -0.7 | AE29: -0.6 | AF29: -0.7 | AG29: -0.7 | AH29: -0.8 | AI29: -0.8 | AJ29: -0.9 | AK29: -0.9 | AL29: -1 | AM29: -1.1 | AN29: -1.2 | AO29: -1.3 | AP29: -1.4 | AQ29: -1.5 | AR29: -1.6 | AS29: -1.8
C30: Higher | D30: Aggregate spending (% GDP long-run), 28.7 (b) | E30: -1 | F30: -1 | G30: -1 | H30: -1 | I30: -0.7 | J30: -1 | K30: -0.8 | L30: -1 | M30: -1.3 | N30: -1.4 | O30: -1.4 | P30: -1.4 | Q30: -1.6 | R30: -1.7 | S30: -1.7 | T30: -1.9 | U30: -1.7 | V30: -1.8 | W30: -1.9 | X30: -1.9 | Y30: -2 | Z30: -2.4 | AA30: -2.2 | AB30: -2.3 | AC30: -2.4 | AD30: -2.5 | AE30: -2.5 | AF30: -2.6 | AG30: -2.7 | AH30: -2.8 | AI30: -2.8 | AJ30: -2.9 | AK30: -3 | AL30: -3.1 | AM30: -3.3 | AN30: -3.4 | AO30: -3.5 | AP30: -3.7 | AQ30: -3.8 | AR30: -4 | AS30: -4.2
B31: Gross debt | C31: Lower | D31: Aggregate spending (% GDP long-run), 26.7 (b) | E31: 33.1 | F31: 34 | G31: 35.2 | H31: 35.8 | I31: 35.6 | J31: 35.2 | K31: 34.3 | L31: 32.9 | M31: 31.5 | N31: 29.9 | O31: 28.2 | P31: 26 | Q31: 24.2 | R31: 22.3 | S31: 20.5 | T31: 18.8 | U31: 17.1 | V31: 15.4 | W31: 13.8 | X31: 12.2 | Y31: 10.7 | Z31: 9.2 | AA31: 7.8 | AB31: 6.5 | AC31: 5.2 | AD31: 4 | AE31: 3.8 | AF31: 3.5 | AG31: 2.7 | AH31: 2.4 | AI31: 2.3 | AJ31: 2 | AK31: 1.2 | AL31: 1.1 | AM31: 0.7 | AN31: 0.7 | AO31: 0.7 | AP31: 0.6 | AQ31: 0.6 | AR31: 0.6 | AS31: 0.6
C32: Baseline | D32: Aggregate spending (% GDP long-run), 27.7 (b) | E32: 33.1 | F32: 34 | G32: 35.2 | H32: 35.8 | I32: 35.6 | J32: 35.4 | K32: 34.7 | L32: 33.7 | M32: 33 | N32: 32.1 | O32: 31.3 | P32: 30.2 | Q32: 29.4 | R32: 28.5 | S32: 27.7 | T32: 27 | U32: 26.3 | V32: 25.7 | W32: 25.1 | X32: 24.5 | Y32: 24 | Z32: 23.6 | AA32: 23.2 | AB32: 22.9 | AC32: 22.7 | AD32: 22.5 | AE32: 22.4 | AF32: 22.3 | AG32: 22.2 | AH32: 22.3 | AI32: 22.3 | AJ32: 22.4 | AK32: 22.6 | AL32: 22.9 | AM32: 23.3 | AN32: 23.7 | AO32: 24.2 | AP32: 24.9 | AQ32: 25.6 | AR32: 26.4 | AS32: 27.4
C33: Higher | D33: Aggregate spending (% GDP long-run), 28.7 (b) | E33: 33.1 | F33: 34 | G33: 35.2 | H33: 35.8 | I33: 35.6 | J33: 35.5 | K33: 35.1 | L33: 34.6 | M33: 34.5 | N33: 34.4 | O33: 34.4 | P33: 34.4 | Q33: 34.6 | R33: 34.7 | S33: 34.9 | T33: 35.3 | U33: 35.6 | V33: 36 | W33: 36.4 | X33: 36.9 | Y33: 37.4 | Z33: 38 | AA33: 38.7 | AB33: 39.5 | AC33: 40.4 | AD33: 41.2 | AE33: 42.1 | AF33: 43.1 | AG33: 44.1 | AH33: 45.2 | AI33: 46.3 | AJ33: 47.5 | AK33: 48.7 | AL33: 50.1 | AM33: 51.5 | AN33: 53 | AO33: 54.6 | AP33: 56.3 | AQ33: 58.1 | AR33: 60 | AS33: 62
A34: Tax assumption (IGR Box 13.2) | B34: Underlying cash balance | C34: Lower | D34: Tax receipts (% GDP), 23.2 (c) | E34: -1 | F34: -1 | G34: -1 | H34: -1 | I34: -0.7 | J34: -0.8 | K34: -0.5 | L34: -0.7 | M34: -1 | N34: -1.2 | O34: -1.3 | P34: -1.4 | Q34: -1.5 | R34: -1.6 | S34: -1.6 | T34: -1.9 | U34: -1.7 | V34: -1.8 | W34: -1.9 | X34: -1.9 | Y34: -2 | Z34: -2.4 | AA34: -2.2 | AB34: -2.2 | AC34: -2.4 | AD34: -2.5 | AE34: -2.5 | AF34: -2.6 | AG34: -2.7 | AH34: -2.8 | AI34: -2.8 | AJ34: -2.9 | AK34: -3 | AL34: -3.1 | AM34: -3.3 | AN34: -3.4 | AO34: -3.5 | AP34: -3.7 | AQ34: -3.8 | AR34: -4 | AS34: -4.2
C35: Baseline | D35: Tax receipts (% GDP), 24.2 (c) | E35: -1 | F35: -1 | G35: -1 | H35: -1 | I35: -0.7 | J35: -0.8 | K35: -0.5 | L35: -0.6 | M35: -0.6 | N35: -0.6 | O35: -0.4 | P35: -0.3 | Q35: -0.4 | R35: -0.4 | S35: -0.4 | T35: -0.6 | U35: -0.4 | V35: -0.4 | W35: -0.4 | X35: -0.4 | Y35: -0.4 | Z35: -0.7 | AA35: -0.5 | AB35: -0.5 | AC35: -0.7 | AD35: -0.7 | AE35: -0.6 | AF35: -0.7 | AG35: -0.7 | AH35: -0.8 | AI35: -0.8 | AJ35: -0.9 | AK35: -0.9 | AL35: -1 | AM35: -1.1 | AN35: -1.2 | AO35: -1.3 | AP35: -1.4 | AQ35: -1.5 | AR35: -1.6 | AS35: -1.8
C36: Higher | D36: Tax receipts (% GDP), 25.2 (c) | E36: -1 | F36: -1 | G36: -1 | H36: -1 | I36: -0.7 | J36: -0.8 | K36: -0.5 | L36: -0.4 | M36: -0.3 | N36: 0 | O36: 0.4 | P36: 0.8 | Q36: 0.8 | R36: 0.8 | S36: 0.9 | T36: 0.8 | U36: 1 | V36: 1 | W36: 1.1 | X36: 1.1 | Y36: 1.1 | Z36: 0.9 | AA36: 1.1 | AB36: 1.2 | AC36: 1.1 | AD36: 1.1 | AE36: 1.2 | AF36: 1.2 | AG36: 1.2 | AH36: 1.1 | AI36: 1.1 | AJ36: 1.1 | AK36: 1.1 | AL36: 1 | AM36: 1 | AN36: 0.9 | AO36: 0.9 | AP36: 0.8 | AQ36: 0.7 | AR36: 0.6 | AS36: 0.5
B37: Gross debt | C37: Lower | D37: Tax receipts (% GDP), 23.2 (c) | E37: 33.1 | F37: 34 | G37: 35.2 | H37: 35.8 | I37: 35.6 | J37: 35.4 | K37: 34.7 | L37: 33.9 | M37: 33.5 | N37: 33.2 | O37: 33.3 | P37: 33.2 | Q37: 33.4 | R37: 33.6 | S37: 33.8 | T37: 34.2 | U37: 34.5 | V37: 34.9 | W37: 35.4 | X37: 35.8 | Y37: 36.4 | Z37: 37.1 | AA37: 37.8 | AB37: 38.5 | AC37: 39.4 | AD37: 40.3 | AE37: 41.2 | AF37: 42.2 | AG37: 43.2 | AH37: 44.4 | AI37: 45.5 | AJ37: 46.7 | AK37: 48 | AL37: 49.3 | AM37: 50.8 | AN37: 52.3 | AO37: 53.9 | AP37: 55.6 | AQ37: 57.5 | AR37: 59.4 | AS37: 61.5
C38: Baseline | D38: Tax receipts (% GDP), 24.2 (c) | E38: 33.1 | F38: 34 | G38: 35.2 | H38: 35.8 | I38: 35.6 | J38: 35.4 | K38: 34.7 | L38: 33.7 | M38: 33 | N38: 32.1 | O38: 31.3 | P38: 30.2 | Q38: 29.4 | R38: 28.5 | S38: 27.7 | T38: 27 | U38: 26.3 | V38: 25.7 | W38: 25.1 | X38: 24.5 | Y38: 24 | Z38: 23.6 | AA38: 23.2 | AB38: 22.9 | AC38: 22.7 | AD38: 22.5 | AE38: 22.4 | AF38: 22.3 | AG38: 22.2 | AH38: 22.3 | AI38: 22.3 | AJ38: 22.4 | AK38: 22.6 | AL38: 22.9 | AM38: 23.3 | AN38: 23.7 | AO38: 24.2 | AP38: 24.9 | AQ38: 25.6 | AR38: 26.4 | AS38: 27.4
C39: Higher | D39: Tax receipts (% GDP), 25.2 (c) | E39: 33.1 | F39: 34 | G39: 35.2 | H39: 35.8 | I39: 35.6 | J39: 35.4 | K39: 34.7 | L39: 33.6 | M39: 32.5 | N39: 31 | O39: 29.3 | P39: 27.2 | Q39: 25.3 | R39: 23.4 | S39: 21.6 | T39: 19.9 | U39: 18.1 | V39: 16.4 | W39: 14.8 | X39: 13.1 | Y39: 11.6 | Z39: 10.1 | AA39: 8.7 | AB39: 7.3 | AC39: 6 | AD39: 4.8 | AE39: 4.5 | AF39: 4.2 | AG39: 3.2 | AH39: 2.8 | AI39: 2.7 | AJ39: 2.3 | AK39: 1.4 | AL39: 1.3 | AM39: 0.7 | AN39: 0.7 | AO39: 0.7 | AP39: 0.6 | AQ39: 0.6 | AR39: 0.6 | AS39: 0.6
A41: Source: 2026 IGR
A43: Notes:
...

Sheet Interactive charts
A1: IGR sensitivity analyses - Charting tool
A2: Select an assumption and measure to compare the Lower, Baseline and Higher scenarios (% of GDP). | J2: Data table
A3: Assumption (select) | B3: Population (IGR Box 8.1) | D3: < Select from a drop down list to the left | J3: =A5 -> Showing: Population (IGR Box 8.1) | Underlying cash balance as % of GDP
A4: Measure (select) | B4: Underlying cash balance | D4: < Select from a drop down list to the left | J4: Financial year | K4: {=INDEX('Table 4a&5a'!$C$4:$C$39,MATCH($B$3,'Table 4a&5a'!$A$4:$A$39,0)+(MATCH($B$4,{"Underlying cash balance","Gross debt"},0)-1)*3+0)&" — "&INDEX('Table 4a&5a'!$D$4:$D$39,MATCH($B$3,'Table 4a&5a'!$A$4:$A$39,0)+(MATCH($B$4,{"Underlying cash balance","Gross debt"},0)-1)*3+0)} -> Lower — Long-run NOM, 185,000; Long-run fertility rate 1.24 | L4: {=INDEX('Table 4a&5a'!$C$4:$C$39,MATCH($B$3,'Table 4a&5a'!$A$4:$A$39,0)+(MATCH($B$4,{"Underlying cash balance","Gross debt"},0)-1)*3+1)&" — "&INDEX('Table 4a&5a'!$D$4:$D$39,MATCH($B$3,'Table 4a&5a'!$A$4:$A$39,0)+(MATCH($B$4,{"Underlying cash balance","Gross debt"},0)-1)*3+1)} -> Baseline — Long-run NOM, 235,000; Long-run fertility rate 1.34 | M4: {=INDEX('Table 4a&5a'!$C$4:$C$39,MATCH($B$3,'Table 4a&5a'!$A$4:$A$39,0)+(MATCH($B$4,{"Underlying cash balance","Gross debt"},0)-1)*3+2)&" — "&INDEX('Table 4a&5a'!$D$4:$D$39,MATCH($B$3,'Table 4a&5a'!$A$4:$A$39,0)+(MATCH($B$4,{"Underlying cash balance","Gross debt"},0)-1)*3+2)} -> Higher — Long-run NOM, 285,000; Long-run fertility rate 1.44
A5: ="Showing: "&B3&" | "&B4&" as % of GDP" -> Showing: Population (IGR Box 8.1) | Underlying cash balance as % of GDP
J8: =INDEX('Table 4a&5a'!$E$3:$AS$3,1,1) -> 2025-26 | K8: {=INDEX('Table 4a&5a'!$E$4:$AS$39,MATCH($B$3,'Table 4a&5a'!$A$4:$A$39,0)+(MATCH($B$4,{"Underlying cash balance","Gross debt"},0)-1)*3+0,1)} -> -1 | L8: {=INDEX('Table 4a&5a'!$E$4:$AS$39,MATCH($B$3,'Table 4a&5a'!$A$4:$A$39,0)+(MATCH($B$4,{"Underlying cash balance","Gross debt"},0)-1)*3+1,1)} -> -1 | M8: {=INDEX('Table 4a&5a'!$E$4:$AS$39,MATCH($B$3,'Table 4a&5a'!$A$4:$A$39,0)+(MATCH($B$4,{"Underlying cash balance","Gross debt"},0)-1)*3+2,1)} -> -1
J9: =INDEX('Table 4a&5a'!$E$3:$AS$3,1,2) -> 2026-27 | K9: {=INDEX('Table 4a&5a'!$E$4:$AS$39,MATCH($B$3,'Table 4a&5a'!$A$4:$A$39,0)+(MATCH($B$4,{"Underlying cash balance","Gross debt"},0)-1)*3+0,2)} -> -1 | L9: {=INDEX('Table 4a&5a'!$E$4:$AS$39,MATCH($B$3,'Table 4a&5a'!$A$4:$A$39,0)+(MATCH($B$4,{"Underlying cash balance","Gross debt"},0)-1)*3+1,2)} -> -1 | M9: {=INDEX('Table 4a&5a'!$E$4:$AS$39,MATCH($B$3,'Table 4a&5a'!$A$4:$A$39,0)+(MATCH($B$4,{"Underlying cash balance","Gross debt"},0)-1)*3+2,2)} -> -1
J10: =INDEX('Table 4a&5a'!$E$3:$AS$3,1,3) -> 2027-28 | K10: {=INDEX('Table 4a&5a'!$E$4:$AS$39,MATCH($B$3,'Table 4a&5a'!$A$4:$A$39,0)+(MATCH($B$4,{"Underlying cash balance","Gross debt"},0)-1)*3+0,3)} -> -1 | L10: {=INDEX('Table 4a&5a'!$E$4:$AS$39,MATCH($B$3,'Table 4a&5a'!$A$4:$A$39,0)+(MATCH($B$4,{"Underlying cash balance","Gross debt"},0)-1)*3+1,3)} -> -1 | M10: {=INDEX('Table 4a&5a'!$E$4:$AS$39,MATCH($B$3,'Table 4a&5a'!$A$4:$A$39,0)+(MATCH($B$4,{"Underlying cash balance","Gross debt"},0)-1)*3+2,3)} -> -1 | P10: Population (IGR Box 8.1) | Q10: Underlying cash balance
J11: =INDEX('Table 4a&5a'!$E$3:$AS$3,1,4) -> 2028-29 | K11: {=INDEX('Table 4a&5a'!$E$4:$AS$39,MATCH($B$3,'Table 4a&5a'!$A$4:$A$39,0)+(MATCH($B$4,{"Underlying cash balance","Gross debt"},0)-1)*3+0,4)} -> -1 | L11: {=INDEX('Table 4a&5a'!$E$4:$AS$39,MATCH($B$3,'Table 4a&5a'!$A$4:$A$39,0)+(MATCH($B$4,{"Underlying cash balance","Gross debt"},0)-1)*3+1,4)} -> -1 | M11: {=INDEX('Table 4a&5a'!$E$4:$AS$39,MATCH($B$3,'Table 4a&5a'!$A$4:$A$39,0)+(MATCH($B$4,{"Underlying cash balance","Gross debt"},0)-1)*3+2,4)} -> -1 | P11: Participation (IGR Box 9.1) | Q11: Gross debt
J12: =INDEX('Table 4a&5a'!$E$3:$AS$3,1,5) -> 2029-30 | K12: {=INDEX('Table 4a&5a'!$E$4:$AS$39,MATCH($B$3,'Table 4a&5a'!$A$4:$A$39,0)+(MATCH($B$4,{"Underlying cash balance","Gross debt"},0)-1)*3+0,5)} -> -0.7 | L12: {=INDEX('Table 4a&5a'!$E$4:$AS$39,MATCH($B$3,'Table 4a&5a'!$A$4:$A$39,0)+(MATCH($B$4,{"Underlying cash balance","Gross debt"},0)-1)*3+1,5)} -> -0.7 | M12: {=INDEX('Table 4a&5a'!$E$4:$AS$39,MATCH($B$3,'Table 4a&5a'!$A$4:$A$39,0)+(MATCH($B$4,{"Underlying cash balance","Gross debt"},0)-1)*3+2,5)} -> -0.7 | P12: Productivity (IGR Box 10.1)
J13: =INDEX('Table 4a&5a'!$E$3:$AS$3,1,6) -> 2030-31 | K13: {=INDEX('Table 4a&5a'!$E$4:$AS$39,MATCH($B$3,'Table 4a&5a'!$A$4:$A$39,0)+(MATCH($B$4,{"Underlying cash balance","Gross debt"},0)-1)*3+0,6)} -> -0.8 | L13: {=INDEX('Table 4a&5a'!$E$4:$AS$39,MATCH($B$3,'Table 4a&5a'!$A$4:$A$39,0)+(MATCH($B$4,{"Underlying cash balance","Gross debt"},0)-1)*3+1,6)} -> -0.8 | M13: {=INDEX('Table 4a&5a'!$E$4:$AS$39,MATCH($B$3,'Table 4a&5a'!$A$4:$A$39,0)+(MATCH($B$4,{"Underlying cash balance","Gross debt"},0)-1)*3+2,6)} -> -0.8 | P13: Government bond yields (IGR Box 11.3)
J14: =INDEX('Table 4a&5a'!$E$3:$AS$3,1,7) -> 2031-32 | K14: {=INDEX('Table 4a&5a'!$E$4:$AS$39,MATCH($B$3,'Table 4a&5a'!$A$4:$A$39,0)+(MATCH($B$4,{"Underlying cash balance","Gross debt"},0)-1)*3+0,7)} -> -0.5 | L14: {=INDEX('Table 4a&5a'!$E$4:$AS$39,MATCH($B$3,'Table 4a&5a'!$A$4:$A$39,0)+(MATCH($B$4,{"Underlying cash balance","Gross debt"},0)-1)*3+1,7)} -> -0.5 | M14: {=INDEX('Table 4a&5a'!$E$4:$AS$39,MATCH($B$3,'Table 4a&5a'!$A$4:$A$39,0)+(MATCH($B$4,{"Underlying cash balance","Gross debt"},0)-1)*3+2,7)} -> -0.5 | P14: Aggregate spending (IGR Box 12.1)
J15: =INDEX('Table 4a&5a'!$E$3:$AS$3,1,8) -> 2032-33 | K15: {=INDEX('Table 4a&5a'!$E$4:$AS$39,MATCH($B$3,'Table 4a&5a'!$A$4:$A$39,0)+(MATCH($B$4,{"Underlying cash balance","Gross debt"},0)-1)*3+0,8)} -> -0.6 | L15: {=INDEX('Table 4a&5a'!$E$4:$AS$39,MATCH($B$3,'Table 4a&5a'!$A$4:$A$39,0)+(MATCH($B$4,{"Underlying cash balance","Gross debt"},0)-1)*3+1,8)} -> -0.6 | M15: {=INDEX('Table 4a&5a'!$E$4:$AS$39,MATCH($B$3,'Table 4a&5a'!$A$4:$A$39,0)+(MATCH($B$4,{"Underlying cash balance","Gross debt"},0)-1)*3+2,8)} -> -0.6 | P15: Tax assumption (IGR Box 13.2)
J16: =INDEX('Table 4a&5a'!$E$3:$AS$3,1,9) -> 2033-34 | K16: {=INDEX('Table 4a&5a'!$E$4:$AS$39,MATCH($B$3,'Table 4a&5a'!$A$4:$A$39,0)+(MATCH($B$4,{"Underlying cash balance","Gross debt"},0)-1)*3+0,9)} -> -0.6 | L16: {=INDEX('Table 4a&5a'!$E$4:$AS$39,MATCH($B$3,'Table 4a&5a'!$A$4:$A$39,0)+(MATCH($B$4,{"Underlying cash balance","Gross debt"},0)-1)*3+1,9)} -> -0.6 | M16: {=INDEX('Table 4a&5a'!$E$4:$AS$39,MATCH($B$3,'Table 4a&5a'!$A$4:$A$39,0)+(MATCH($B$4,{"Underlying cash balance","Gross debt"},0)-1)*3+2,9)} -> -0.6
J17: =INDEX('Table 4a&5a'!$E$3:$AS$3,1,10) -> 2034-35 | K17: {=INDEX('Table 4a&5a'!$E$4:$AS$39,MATCH($B$3,'Table 4a&5a'!$A$4:$A$39,0)+(MATCH($B$4,{"Underlying cash balance","Gross debt"},0)-1)*3+0,10)} -> -0.6 | L17: {=INDEX('Table 4a&5a'!$E$4:$AS$39,MATCH($B$3,'Table 4a&5a'!$A$4:$A$39,0)+(MATCH($B$4,{"Underlying cash balance","Gross debt"},0)-1)*3+1,10)} -> -0.6 | M17: {=INDEX('Table 4a&5a'!$E$4:$AS$39,MATCH($B$3,'Table 4a&5a'!$A$4:$A$39,0)+(MATCH($B$4,{"Underlying cash balance","Gross debt"},0)-1)*3+2,10)} -> -0.6
J18: =INDEX('Table 4a&5a'!$E$3:$AS$3,1,11) -> 2035-36 | K18: {=INDEX('Table 4a&5a'!$E$4:$AS$39,MATCH($B$3,'Table 4a&5a'!$A$4:$A$39,0)+(MATCH($B$4,{"Underlying cash balance","Gross debt"},0)-1)*3+0,11)} -> -0.4 | L18: {=INDEX('Table 4a&5a'!$E$4:$AS$39,MATCH($B$3,'Table 4a&5a'!$A$4:$A$39,0)+(MATCH($B$4,{"Underlying cash balance","Gross debt"},0)-1)*3+1,11)} -> -0.4 | M18: {=INDEX('Table 4a&5a'!$E$4:$AS$39,MATCH($B$3,'Table 4a&5a'!$A$4:$A$39,0)+(MATCH($B$4,{"Underlying cash balance","Gross debt"},0)-1)*3+2,11)} -> -0.4
J19: =INDEX('Table 4a&5a'!$E$3:$AS$3,1,12) -> 2036-37 | K19: {=INDEX('Table 4a&5a'!$E$4:$AS$39,MATCH($B$3,'Table 4a&5a'!$A$4:$A$39,0)+(MATCH($B$4,{"Underlying cash balance","Gross debt"},0)-1)*3+0,12)} -> -0.3 | L19: {=INDEX('Table 4a&5a'!$E$4:$AS$39,MATCH($B$3,'Table 4a&5a'!$A$4:$A$39,0)+(MATCH($B$4,{"Underlying cash balance","Gross debt"},0)-1)*3+1,12)} -> -0.3 | M19: {=INDEX('Table 4a&5a'!$E$4:$AS$39,MATCH($B$3,'Table 4a&5a'!$A$4:$A$39,0)+(MATCH($B$4,{"Underlying cash balance","Gross debt"},0)-1)*3+2,12)} -> -0.3
J20: =INDEX('Table 4a&5a'!$E$3:$AS$3,1,13) -> 2037-38 | K20: {=INDEX('Table 4a&5a'!$E$4:$AS$39,MATCH($B$3,'Table 4a&5a'!$A$4:$A$39,0)+(MATCH($B$4,{"Underlying cash balance","Gross debt"},0)-1)*3+0,13)} -> -0.4 | L20: {=INDEX('Table 4a&5a'!$E$4:$AS$39,MATCH($B$3,'Table 4a&5a'!$A$4:$A$39,0)+(MATCH($B$4,{"Underlying cash balance","Gross debt"},0)-1)*3+1,13)} -> -0.4 | M20: {=INDEX('Table 4a&5a'!$E$4:$AS$39,MATCH($B$3,'Table 4a&5a'!$A$4:$A$39,0)+(MATCH($B$4,{"Underlying cash balance","Gross debt"},0)-1)*3+2,13)} -> -0.4
J21: =INDEX('Table 4a&5a'!$E$3:$AS$3,1,14) -> 2038-39 | K21: {=INDEX('Table 4a&5a'!$E$4:$AS$39,MATCH($B$3,'Table 4a&5a'!$A$4:$A$39,0)+(MATCH($B$4,{"Underlying cash balance","Gross debt"},0)-1)*3+0,14)} -> -0.4 | L21: {=INDEX('Table 4a&5a'!$E$4:$AS$39,MATCH($B$3,'Table 4a&5a'!$A$4:$A$39,0)+(MATCH($B$4,{"Underlying cash balance","Gross debt"},0)-1)*3+1,14)} -> -0.4 | M21: {=INDEX('Table 4a&5a'!$E$4:$AS$39,MATCH($B$3,'Table 4a&5a'!$A$4:$A$39,0)+(MATCH($B$4,{"Underlying cash balance","Gross debt"},0)-1)*3+2,14)} -> -0.4
J22: =INDEX('Table 4a&5a'!$E$3:$AS$3,1,15) -> 2039-40 | K22: {=INDEX('Table 4a&5a'!$E$4:$AS$39,MATCH($B$3,'Table 4a&5a'!$A$4:$A$39,0)+(MATCH($B$4,{"Underlying cash balance","Gross debt"},0)-1)*3+0,15)} -> -0.4 | L22: {=INDEX('Table 4a&5a'!$E$4:$AS$39,MATCH($B$3,'Table 4a&5a'!$A$4:$A$39,0)+(MATCH($B$4,{"Underlying cash balance","Gross debt"},0)-1)*3+1,15)} -> -0.4 | M22: {=INDEX('Table 4a&5a'!$E$4:$AS$39,MATCH($B$3,'Table 4a&5a'!$A$4:$A$39,0)+(MATCH($B$4,{"Underlying cash balance","Gross debt"},0)-1)*3+2,15)} -> -0.4
J23: =INDEX('Table 4a&5a'!$E$3:$AS$3,1,16) -> 2040-41 | K23: {=INDEX('Table 4a&5a'!$E$4:$AS$39,MATCH($B$3,'Table 4a&5a'!$A$4:$A$39,0)+(MATCH($B$4,{"Underlying cash balance","Gross debt"},0)-1)*3+0,16)} -> -0.6 | L23: {=INDEX('Table 4a&5a'!$E$4:$AS$39,MATCH($B$3,'Table 4a&5a'!$A$4:$A$39,0)+(MATCH($B$4,{"Underlying cash balance","Gross debt"},0)-1)*3+1,16)} -> -0.6 | M23: {=INDEX('Table 4a&5a'!$E$4:$AS$39,MATCH($B$3,'Table 4a&5a'!$A$4:$A$39,0)+(MATCH($B$4,{"Underlying cash balance","Gross debt"},0)-1)*3+2,16)} -> -0.5
J24: =INDEX('Table 4a&5a'!$E$3:$AS$3,1,17) -> 2041-42 | K24: {=INDEX('Table 4a&5a'!$E$4:$AS$39,MATCH($B$3,'Table 4a&5a'!$A$4:$A$39,0)+(MATCH($B$4,{"Underlying cash balance","Gross debt"},0)-1)*3+0,17)} -> -0.4 | L24: {=INDEX('Table 4a&5a'!$E$4:$AS$39,MATCH($B$3,'Table 4a&5a'!$A$4:$A$39,0)+(MATCH($B$4,{"Underlying cash balance","Gross debt"},0)-1)*3+1,17)} -> -0.4 | M24: {=INDEX('Table 4a&5a'!$E$4:$AS$39,MATCH($B$3,'Table 4a&5a'!$A$4:$A$39,0)+(MATCH($B$4,{"Underlying cash balance","Gross debt"},0)-1)*3+2,17)} -> -0.3
J25: =INDEX('Table 4a&5a'!$E$3:$AS$3,1,18) -> 2042-43 | K25: {=INDEX('Table 4a&5a'!$E$4:$AS$39,MATCH($B$3,'Table 4a&5a'!$A$4:$A$39,0)+(MATCH($B$4,{"Underlying cash balance","Gross debt"},0)-1)*3+0,18)} -> -0.4 | L25: {=INDEX('Table 4a&5a'!$E$4:$AS$39,MATCH($B$3,'Table 4a&5a'!$A$4:$A$39,0)+(MATCH($B$4,{"Underlying cash balance","Gross debt"},0)-1)*3+1,18)} -> -0.4 | M25: {=INDEX('Table 4a&5a'!$E$4:$AS$39,MATCH($B$3,'Table 4a&5a'!$A$4:$A$39,0)+(MATCH($B$4,{"Underlying cash balance","Gross debt"},0)-1)*3+2,18)} -> -0.4
